BEGIN:VCALENDAR
VERSION:2.0
PRODID:-//South Yorkshire Scouts - ECPv6.15.20//NONSGML v1.0//EN
CALSCALE:GREGORIAN
METHOD:PUBLISH
X-WR-CALNAME:South Yorkshire Scouts
X-ORIGINAL-URL:https://syscouts.org.uk
X-WR-CALDESC:Events for South Yorkshire Scouts
REFRESH-INTERVAL;VALUE=DURATION:PT1H
X-Robots-Tag:noindex
X-PUBLISHED-TTL:PT1H
BEGIN:VTIMEZONE
TZID:Europe/London
BEGIN:DAYLIGHT
TZOFFSETFROM:+0000
TZOFFSETTO:+0100
TZNAME:BST
DTSTART:20250330T010000
END:DAYLIGHT
BEGIN:STANDARD
TZOFFSETFROM:+0100
TZOFFSETTO:+0000
TZNAME:GMT
DTSTART:20251026T010000
END:STANDARD
BEGIN:DAYLIGHT
TZOFFSETFROM:+0000
TZOFFSETTO:+0100
TZNAME:BST
DTSTART:20260329T010000
END:DAYLIGHT
BEGIN:STANDARD
TZOFFSETFROM:+0100
TZOFFSETTO:+0000
TZNAME:GMT
DTSTART:20261025T010000
END:STANDARD
BEGIN:DAYLIGHT
TZOFFSETFROM:+0000
TZOFFSETTO:+0100
TZNAME:BST
DTSTART:20270328T010000
END:DAYLIGHT
BEGIN:STANDARD
TZOFFSETFROM:+0100
TZOFFSETTO:+0000
TZNAME:GMT
DTSTART:20271031T010000
END:STANDARD
END:VTIMEZONE
BEGIN:VEVENT
DTSTART;TZID=Europe/London:20260425T090000
DTEND;TZID=Europe/London:20260425T123000
DTSTAMP:20260420T105747
CREATED:20260121T203650Z
LAST-MODIFIED:20260121T203650Z
UID:7461-1777107600-1777120200@syscouts.org.uk
SUMMARY:First Response Practical Assessment (10b)
DESCRIPTION:Book then just turn up – there are no fixed slots so you may have to wait a short time. You MUST have completed First Aid Learning (10a) by undertaking both the Independent Learning hosted by Hampshire Scouts and the facilitated Teams session\, before validating the First Aid Practical (10b). \nYou will demonstrate (or instruct a trainer) your skill in performing and your knowledge of \na) Approach and assessment of a scenario (DRABC) \nb) CPR for an adult \nc) CPR for a child \nAlternatively\, you may have completed an external course and need to demonstrate child CPR. \nFollow the Eventbrite link to book \nhttps://www.eventbrite.co.uk/e/first-response-practical-old-module-10b-tickets-1981250238798
URL:https://syscouts.org.uk/event/first-response-practical-assessment-10b-4/
LOCATION:Hesley Wood Activity Centre\, White Lane\, Chapeltown\, South Yorkshire\, S35 2YH
CATEGORIES:Training
END:VEVENT
END:VCALENDAR