BEGIN:VCALENDAR
VERSION:2.0
PRODID:-//South Yorkshire Scouts - ECPv6.15.20//NONSGML v1.0//EN
CALSCALE:GREGORIAN
METHOD:PUBLISH
X-ORIGINAL-URL:https://syscouts.org.uk
X-WR-CALDESC:Events for South Yorkshire Scouts
REFRESH-INTERVAL;VALUE=DURATION:PT1H
X-Robots-Tag:noindex
X-PUBLISHED-TTL:PT1H
BEGIN:VTIMEZONE
TZID:Europe/London
BEGIN:DAYLIGHT
TZOFFSETFROM:+0000
TZOFFSETTO:+0100
TZNAME:BST
DTSTART:20250330T010000
END:DAYLIGHT
BEGIN:STANDARD
TZOFFSETFROM:+0100
TZOFFSETTO:+0000
TZNAME:GMT
DTSTART:20251026T010000
END:STANDARD
BEGIN:DAYLIGHT
TZOFFSETFROM:+0000
TZOFFSETTO:+0100
TZNAME:BST
DTSTART:20260329T010000
END:DAYLIGHT
BEGIN:STANDARD
TZOFFSETFROM:+0100
TZOFFSETTO:+0000
TZNAME:GMT
DTSTART:20261025T010000
END:STANDARD
BEGIN:DAYLIGHT
TZOFFSETFROM:+0000
TZOFFSETTO:+0100
TZNAME:BST
DTSTART:20270328T010000
END:DAYLIGHT
BEGIN:STANDARD
TZOFFSETFROM:+0100
TZOFFSETTO:+0000
TZNAME:GMT
DTSTART:20271031T010000
END:STANDARD
END:VTIMEZONE
BEGIN:VEVENT
DTSTART;TZID=Europe/London:20260523T100000
DTEND;TZID=Europe/London:20260523T170000
DTSTAMP:20260420T124224
CREATED:20260401T112441Z
LAST-MODIFIED:20260401T112441Z
UID:7478-1779530400-1779555600@syscouts.org.uk
SUMMARY:First Response - Full Day - F2F
DESCRIPTION:This is a full day session. Completing this course validates both Learning (10a) and Practical (10b).. This course is only available for those who need to complete First Response because of their role. and you MUST have completed Growing Roots. \nYou should wear comfortable clothing and remember to bring your packed lunch. \nPLEASE …. only book if you can guarantee to attend. This course may be cancelled if there are not enough participants. \nTo book a place\, please follow the Eventbrite link \nhttps://www.eventbrite.co.uk/e/first-response-full-day-f2f-course-tickets-1986419588462
URL:https://syscouts.org.uk/event/first-response-full-day-f2f-39/
LOCATION:Hesley Wood Activity Centre\, White Lane\, Chapeltown\, South Yorkshire\, S35 2YH
CATEGORIES:Training
END:VEVENT
END:VCALENDAR